BEGIN:VCALENDAR
VERSION:2.0
PRODID:-//ChamberMaster//Event Calendar 2.0//EN
METHOD:PUBLISH
X-PUBLISHED-TTL:P3D
REFRESH-INTERVAL:P3D
CALSCALE:GREGORIAN
BEGIN:VEVENT
DTSTART:20220303T133000Z
DTEND:20220303T143000Z
X-MICROSOFT-CDO-ALLDAYEVENT:FALSE
SUMMARY:134th Annual General Meeting
DESCRIPTION:The Chatham-Kent Chamber of Commerce Annual General Meeting will be held on Thursday\, March 3rd virtually.
X-ALT-DESC;FMTTYPE=text/html:The Chatham-Kent Chamber of Commerce Annual General Meeting will be held on Thursday\, March 3rd virtually.
LOCATION:
UID:e.3218.31416
SEQUENCE:3
DTSTAMP:20260422T113830Z
URL:https://business.chatham-kentchamber.ca/events/details/134th-annual-general-meeting-31416
END:VEVENT

END:VCALENDAR
