BEGIN:VCALENDAR
VERSION:2.0
PRODID:-//ChamberMaster//Event Calendar 2.0//EN
METHOD:PUBLISH
X-PUBLISHED-TTL:P3D
REFRESH-INTERVAL:P3D
CALSCALE:GREGORIAN
BEGIN:VEVENT
DTSTART:20210928T120000Z
DTEND:20210928T130000Z
X-MICROSOFT-CDO-ALLDAYEVENT:FALSE
SUMMARY:A Conversation with Enbridge Gas: 'The Future of Clean Energy'
DESCRIPTION:
X-ALT-DESC;FMTTYPE=text/html:
LOCATION:
UID:e.3218.31413
SEQUENCE:3
DTSTAMP:20260422T205316Z
URL:https://business.chatham-kentchamber.ca/events/details/a-conversation-with-enbridge-gas-the-future-of-clean-energy-31413
END:VEVENT

END:VCALENDAR
