BEGIN:VCALENDAR
VERSION:2.0
PRODID:-//ChamberMaster//Event Calendar 2.0//EN
METHOD:PUBLISH
X-PUBLISHED-TTL:P3D
REFRESH-INTERVAL:P3D
CALSCALE:GREGORIAN
BEGIN:VEVENT
DTSTART:20211006T230000Z
DTEND:20211007T000000Z
X-MICROSOFT-CDO-ALLDAYEVENT:FALSE
SUMMARY:Business Excellence Awards
DESCRIPTION:
X-ALT-DESC;FMTTYPE=text/html:
LOCATION:Virtual Event
UID:e.3218.31411
SEQUENCE:3
DTSTAMP:20260422T190940Z
URL:https://business.chatham-kentchamber.ca/events/details/business-excellence-awards-31411
END:VEVENT

END:VCALENDAR
