BEGIN:VCALENDAR
VERSION:2.0
PRODID:-//ChamberMaster//Event Calendar 2.0//EN
METHOD:PUBLISH
X-PUBLISHED-TTL:P3D
REFRESH-INTERVAL:P3D
CALSCALE:GREGORIAN
BEGIN:VEVENT
DTSTART:20210624T140000Z
DTEND:20210624T200000Z
X-MICROSOFT-CDO-ALLDAYEVENT:FALSE
SUMMARY:Chamber Annual Golf Tournament
DESCRIPTION:Sponsorship Opportunities Available! \n\nHole Sponsor  Cost: $165 \n\nYour business will be recognized as a sponsor with hole signage\, on customized scorecards\, pre & post event promotion on Chamber Social Media through website and e-newsletter\n\n \n\nGoodie Bag Giveaways\n\nCost: Provide 150 fun/unique promotional items\n\nYour business will be recognized within the goodie bag as a goodie bag sponsor as well as on the Chamber social media\n\n \n\nContact the Chamber Today!
X-ALT-DESC;FMTTYPE=text/html:<br />\n<span style="color: rgb(0\, 35\, 86)\; font-family: arial\; font-size: 16px\; background-color: rgb(255\, 255\, 255)\;">Sponsorship Opportunities Available!&nbsp\;</span><br />\n<span style="color:#000080\;"><span style="text-decoration:underline\;text-underline:single\;language:en-US\;"><span style="font-family:arial\;"><span style="font-size:12.0pt\;">Hole Sponsor</span></span></span><span style="font-family:arial\;"><span style="font-size:12.0pt\;">&nbsp\; Cost: $165&nbsp\;</span></span><br />\n<span style="font-family:arial\;"><span style="font-size:12.0pt\;">Your business will be recognized as a sponsor with hole signage\, on customized scorecards\, pre &amp\; post event promotion on Chamber Social Media through website and e-newsletter</span></span></span><br />\n&nbsp\;<br />\n<span style="text-decoration:underline\;text-underline:single\;language:en-US\;"><span style="color:#7C03BF\;"><span style="font-family:arial\;"><span style="font-size:12.0pt\;">Goodie Bag Giveaways</span></span></span></span><br />\n<span style="language:en-US\;"><span style="color:#7C03BF\;"><span style="font-family:arial\;"><span style="font-size:12.0pt\;">Cost: Provide 150 fun/unique promotional items</span></span></span></span><br />\n<span style="language:en-US\;"><span style="color:#7C03BF\;"><span style="font-family:arial\;"><span style="font-size:12.0pt\;">Your business will be recognized within the goodie bag as a goodie bag sponsor as well as on the Chamber social media</span></span></span></span><br />\n&nbsp\;<br />\n<span style="color: rgb(0\, 35\, 86)\; font-family: arial\; font-size: 16px\; background-color: rgb(255\, 255\, 255)\;">Contact the Chamber Today!</span>
LOCATION:Hidden Hills Golf & Country Club
UID:e.3218.31410
SEQUENCE:3
DTSTAMP:20260423T013851Z
URL:https://business.chatham-kentchamber.ca/events/details/chamber-annual-golf-tournament-31410
END:VEVENT

END:VCALENDAR
