BEGIN:VCALENDAR
VERSION:2.0
PRODID:-//ChamberMaster//Event Calendar 2.0//EN
METHOD:PUBLISH
X-PUBLISHED-TTL:P3D
REFRESH-INTERVAL:P3D
CALSCALE:GREGORIAN
BEGIN:VEVENT
DTSTART:20230607T123000Z
DTEND:20230607T133000Z
X-MICROSOFT-CDO-ALLDAYEVENT:FALSE
SUMMARY:Coffee.ConneCKt.Learn
DESCRIPTION:
X-ALT-DESC;FMTTYPE=text/html:
LOCATION:Chatham-Kent Chamber of Commerce Office 54 Fourth Street\, Chatham
UID:e.3218.31439
SEQUENCE:3
DTSTAMP:20260419T164559Z
URL:https://business.chatham-kentchamber.ca/events/details/coffee-conneckt-learn-31439
END:VEVENT

END:VCALENDAR
