BEGIN:VCALENDAR
VERSION:2.0
PRODID:-//ChamberMaster//Event Calendar 2.0//EN
METHOD:PUBLISH
X-PUBLISHED-TTL:P3D
REFRESH-INTERVAL:P3D
CALSCALE:GREGORIAN
BEGIN:VEVENT
DTSTART:20220223T130000Z
DTEND:20220223T140000Z
X-MICROSOFT-CDO-ALLDAYEVENT:FALSE
SUMMARY:Join our conversation with Dave Epp\, MP Chatham-Kent Leamington
DESCRIPTION:
X-ALT-DESC;FMTTYPE=text/html:
LOCATION:
UID:e.3218.31415
SEQUENCE:3
DTSTAMP:20260422T131919Z
URL:https://business.chatham-kentchamber.ca/events/details/join-our-conversation-with-dave-epp-mp-chatham-kent-leamington-31415
END:VEVENT

END:VCALENDAR
