BEGIN:VCALENDAR
VERSION:2.0
PRODID:-//ChamberMaster//Event Calendar 2.0//EN
METHOD:PUBLISH
X-PUBLISHED-TTL:P3D
REFRESH-INTERVAL:P3D
CALSCALE:GREGORIAN
BEGIN:VEVENT
DTSTART:20221123T230000Z
DTEND:20221124T020000Z
X-MICROSOFT-CDO-ALLDAYEVENT:FALSE
SUMMARY:Rural Urban Awards
DESCRIPTION:
X-ALT-DESC;FMTTYPE=text/html:
LOCATION:Chatham-Kent John D. Bradley Convention Centre 565 Richmond St\, Chatham\, ON N7M 1R2
UID:e.3218.31414
SEQUENCE:3
DTSTAMP:20260420T025806Z
URL:https://business.chatham-kentchamber.ca/events/details/rural-urban-awards-31414
END:VEVENT

END:VCALENDAR
