BEGIN:VCALENDAR
VERSION:2.0
PRODID:-//ChamberMaster//Event Calendar 2.0//EN
METHOD:PUBLISH
X-PUBLISHED-TTL:P3D
REFRESH-INTERVAL:P3D
CALSCALE:GREGORIAN
BEGIN:VEVENT
DTSTART:20210519T123000Z
DTEND:20210519T133000Z
X-MICROSOFT-CDO-ALLDAYEVENT:FALSE
SUMMARY:The Chamber's Mayor's Address
DESCRIPTION:The Chamber's Mayor's Address with Chatham-Kent Mayor Darrin Canniff will be held virtually on Wednesday\, May 19th. \n\nSave & Support Local Restaurants!  Receive a $20 Chamber Member restaurant gift certificate with a Package Registration\n\n\n\nPackage Registration $30 (+ HST )\n\nIncludes: $20 Chamber Member restaurant gift certificate of your choice and link to The Chamber's Mayor's Address.\n\n\n\n Mayor's Address Only Registration $15 (+ HST )\n\nIncludes: link to The Chamber's Mayor's Address
X-ALT-DESC;FMTTYPE=text/html:<span style="font-size:14px\;">The Chamber&#39\;s Mayor&#39\;s Address with Chatham-Kent Mayor Darrin Canniff will be held virtually on Wednesday\, May 19th.&nbsp\;<br />\n<em>Save &amp\; Support Local Restaurants!&nbsp\;&nbsp\;</em>Receive a $20 Chamber Member restaurant gift certificate with a Package Registration<br />\n<br />\n<span style="font-size:16px\;"><span style="font-size:12px\;"><span style="font-family:arial\;"><span style="text-decoration:underline\;text-underline:single\;language:en-US\;">Package Registration&nbsp\;</span><span style="font-weight:bold\;language:en-US\;">$30 (+ </span><span style="font-weight:bold\;language:en-US\;">HST )</span><br />\nIncludes: $20 Chamber Member restaurant&nbsp\;gift certificate of your choice and link to&nbsp\;The Chamber&rsquo\;s Mayor&rsquo\;s Address.<br />\n<br />\n&nbsp\;<span style="text-decoration:underline\;text-underline:single\;language:en-US\;">Mayor&rsquo\;s Address Only Registration&nbsp\;</span><span style="font-weight:bold\;language:en-US\;">$15 (+ </span><span style="font-weight:bold\;language:en-US\;">HST )</span><br />\nIncludes: link to&nbsp\;The Chamber&rsquo\;s Mayor&rsquo\;s Address</span></span></span><br />\n<span style="font-size:12px\;"><span style="font-family:arial\;">&nbsp\;</span></span></span><br />\n<br />\n&nbsp\;
LOCATION:Virtual Event
UID:e.3218.31409
SEQUENCE:3
DTSTAMP:20260423T031553Z
URL:https://business.chatham-kentchamber.ca/events/details/the-chamber-s-mayor-s-address-31409
END:VEVENT

END:VCALENDAR
