BEGIN:VCALENDAR
VERSION:2.0
PRODID:-//ChamberMaster//Event Calendar 2.0//EN
METHOD:PUBLISH
X-PUBLISHED-TTL:P3D
REFRESH-INTERVAL:P3D
CALSCALE:GREGORIAN
BEGIN:VEVENT
DTSTART:20220526T120000Z
DTEND:20220526T133000Z
X-MICROSOFT-CDO-ALLDAYEVENT:FALSE
SUMMARY:The Chamber's Mayor's Address
DESCRIPTION:The Chamber's Mayor's Address with Chatham-Kent Mayor Darrin Canniff will be held on Thursday\, May 26th at the Retro Suites Hotel.
X-ALT-DESC;FMTTYPE=text/html:<span style="font-size:14px\;">The Chamber&#39\;s Mayor&#39\;s Address with Chatham-Kent Mayor Darrin Canniff will be held on Thursday\, May 26th at the Retro Suites Hotel.&nbsp\;<br />\n<br />\n<span style="font-size:12px\;"><span style="font-family:arial\;">&nbsp\;</span></span></span><br />\n<br />\n&nbsp\;
LOCATION:Retro Suites Hotel - 2 King Street West\, Chatham
UID:e.3218.31418
SEQUENCE:3
DTSTAMP:20260422T114920Z
URL:https://business.chatham-kentchamber.ca/events/details/the-chamber-s-mayor-s-address-31418
END:VEVENT

END:VCALENDAR
