BEGIN:VCALENDAR
VERSION:2.0
PRODID:-//ChamberMaster//Event Calendar 2.0//EN
METHOD:PUBLISH
X-PUBLISHED-TTL:P3D
REFRESH-INTERVAL:P3D
CALSCALE:GREGORIAN
BEGIN:VEVENT
DTSTART:20210407T140000Z
DTEND:20210407T142000Z
X-MICROSOFT-CDO-ALLDAYEVENT:FALSE
SUMMARY:Water Cooler Wednesday
DESCRIPTION:Take a break and join fellow Chamber Members through a virtual coffee break!\n\nRegister online to save your spot!
X-ALT-DESC;FMTTYPE=text/html:Take a break and join fellow Chamber Members through a virtual coffee break!<br />\nRegister online to save your spot!&nbsp\;
LOCATION:
UID:e.3218.31408
SEQUENCE:3
DTSTAMP:20260423T055745Z
URL:https://business.chatham-kentchamber.ca/events/details/water-cooler-wednesday-31408
END:VEVENT

END:VCALENDAR
