BEGIN:VCALENDAR
VERSION:2.0
PRODID:-//ChamberMaster//Event Calendar 2.0//EN
METHOD:PUBLISH
X-PUBLISHED-TTL:P3D
REFRESH-INTERVAL:P3D
CALSCALE:GREGORIAN
BEGIN:VEVENT
DTSTART:20210909T120000Z
DTEND:20210909T133000Z
X-MICROSOFT-CDO-ALLDAYEVENT:FALSE
SUMMARY:Young People Business Inspired Federal Election Forum
DESCRIPTION:The YconneCKt Group of the Chatham-Kent Chamber of Commerce\, along with the Municipal CKy  Advisory Group\, is hosting a Young People Business Inspired Federal Election Forum on Thursday\, September 9th.  This forum will be televised\, and rebroadcast\, with the valuable support of YourTV.
X-ALT-DESC;FMTTYPE=text/html:<span style="font-family:calibri\,sans-serif\;"><span style="font-size:11.0pt\;">The </span></span><em><span style="font-family:calibri\,sans-serif\;"><span style="font-size:12.0pt\;">YconneCKt Group</span></span></em><span style="font-family:calibri\,sans-serif\;"><span style="font-size:11.0pt\;"> of the Chatham-Kent Chamber of Commerce\, along with the Municipal </span></span><em><span style="font-family:calibri\,sans-serif\;"><span style="font-size:12.0pt\;">CK<sup>y</sup>&nbsp\; Advisory Group\, </span></span></em><span style="font-family:calibri\,sans-serif\;"><span style="font-size:11.0pt\;">is hosting a </span></span><em><span style="font-family:calibri\,sans-serif\;"><span style="font-size:12.0pt\;">Young People Business Inspired Federal Election Forum</span></span></em><span style="font-family:calibri\,sans-serif\;"><span style="font-size:11.0pt\;"> on Thursday\, September 9<sup>th</sup>.&nbsp\; This forum will be televised\, and rebroadcast\, with the valuable support of </span></span><em><span style="font-family:calibri\,sans-serif\;"><span style="font-size:12.0pt\;">YourTV.</span></span></em>
LOCATION:Virtual Event
UID:e.3218.31412
SEQUENCE:3
DTSTAMP:20260422T204713Z
URL:https://business.chatham-kentchamber.ca/events/details/young-people-business-inspired-federal-election-forum-31412
END:VEVENT

END:VCALENDAR
